BEGIN:VCALENDAR
VERSION:2.0
PRODID:-//wp-events-plugin.com//7.2.3.1//EN
TZID:Europe/Rome
X-WR-TIMEZONE:Europe/Rome
BEGIN:VEVENT
UID:127@cappellaniauniroma3.org
DTSTART;TZID=Europe/Rome:20150415T201500
DTEND;TZID=Europe/Rome:20150415T213000
DTSTAMP:20150211T194653Z
URL:https://www.cappellaniauniroma3.org/eventi/scuola-di-comunita-cl-giova
 ni-lavoratori-2015-04-15/
SUMMARY:Scuola di comunità CL (giovani lavoratori)
DESCRIPTION:
CATEGORIES:Gruppi e Associazioni
LOCATION:Cappellania Università degli Studi Roma Tre\, Piazzale San Paolo\
 , 1/d\, Roma\, RM\, 00154\, Lazio\, Italia
GEO:41.85797719602581;12.474688334887674
X-APPLE-STRUCTURED-LOCATION;VALUE=URI;X-ADDRESS=Piazzale San Paolo\, 1/d\, 
 Roma\, RM\, 00154\, Lazio\, Italia;X-APPLE-RADIUS=100;X-TITLE=Cappellania 
 Università degli Studi Roma Tre:geo:41.85797719602581,12.474688334887674
END:VEVENT
BEGIN:VTIMEZONE
TZID:Europe/Rome
X-LIC-LOCATION:Europe/Rome
BEGIN:DAYLIGHT
DTSTART:20150329T030000
TZOFFSETFROM:+0100
TZOFFSETTO:+0200
TZNAME:CEST
END:DAYLIGHT
END:VTIMEZONE
END:VCALENDAR